BEGIN:VCALENDAR
VERSION:2.0
PRODID:-//eventon.com NONSGML v1.0//EN
BEGIN:VEVENT
UID:69e9d71d4f838
DTSTAMP:20260423T102357
DTSTART:20210801T190000Z
DTEND:20210801T203000Z
LOCATION:Santa Marija Stari grad 
SUMMARY:Podijum mladih
DESCRIPTION: Matija Molčanov\,  klavir Gost: Anđela Vlaović\,  flauta &nbsp; Matija Molčanov je rođen 08.10.2004.godine u Kotoru. Prve muzičke korake napravio je\,  na svom neobičnom razvojnom putu\,  u klasi prof. Biljane Bagarić u ŠOMO Budva\,  a nastavio školovanje u klasi svog oca\,  prof. Oleksija Molčanova u Tivtu. Srednju muzičku školu nastavlja 2020.godine[..]
END:VEVENT
END:VCALENDAR