BEGIN:VCALENDAR
VERSION:2.0
PRODID:-//eventon.com NONSGML v1.0//EN
BEGIN:VEVENT
UID:69e9d71d72fbe
DTSTAMP:20260423T102357
DTSTART:20240707T190000Z
DTEND:20240707T210000Z
LOCATION:Između crkava Stari grad\,  Budva
SUMMARY:Nadpop Kojović
DESCRIPTION: Theatre City\,  Budva/ The City Theatre\,  Podgorica Vida Ognjenović Nadpop Kojović Directed by: Vida Ognjenović Scenography: Vladislava Cunnington Costume design: Marija Pupučevska Music: Damjan Jovičin Stage movement: Sonja Vukićević Cast: Nebojša Dugalić\,  Pavle Popović\,  Mišo Obradović\,   Pavle Ilić\,  Davor Dragojević\,  Danilo Čelebić\,  Vukan Pejović\,  Ognjen Sekulić\,  Branka Femić Šćekić\,  Smiljana [..]
END:VEVENT
END:VCALENDAR