BEGIN:VCALENDAR
VERSION:2.0
PRODID:-//eventon.com NONSGML v1.0//EN
BEGIN:VEVENT
UID:69e5117f269de
DTSTAMP:20260419T193143
DTSTART:20250720T190000Z
DTEND:20250720T210000Z
LOCATION:Between the Churches 
SUMMARY:Nadpop Kojović
DESCRIPTION: Theatre City Budva /City Theatre\,  Podgorica Vida Ognjenović Nadpop Kojović Director: Vida Ognjenović Set Design: Vladislava Cunnington Costume Design: Marija Pupučevska Music: Damjan Jovičin Stage Movement: Sonja Vukićević Cast: Nebojša Dugalić\,  Pavle Popović\,  Mišo Obradović\,  Pavle Ilić\,  Davor Dragojević\,  Danilo Čelebić\,  Vukan Pejović\,  Ognjen Sekulić\,  Branka Femić Šćekić\,  Vanja Jovićević\, [..]
END:VEVENT
END:VCALENDAR