BEGIN:VCALENDAR
VERSION:2.0
PRODID:-//eventon.com NONSGML v1.0//EN
BEGIN:VEVENT
UID:69e9e92dd8fe3
DTSTAMP:20260423T114101
DTSTART:20250730T160000Z
DTEND:20250730T170000Z
LOCATION:Red Commune\,  Petrovac 
SUMMARY:Les Vivantes
DESCRIPTION: Sexual Theatre Project – A Feminist Reading of Classics &nbsp; Theatre City Budva/Bosnian National Theatre\,  Zenica/Paul-Valéry University\,  Montpellier/Faz Cultura\,  Braga Aïcha Euzet Text inspired by the short story Mara milosnica (The Pasha's Concubine) by Ivo Andrić Les Vivantes Director: Julio Serdeira Costume Design: Ena Begičević-Čeliković Music: Igor Kasapović Translation: Melisa[..]
END:VEVENT
END:VCALENDAR